BEGIN:VCALENDAR
VERSION:2.0
PRODID:-//Unió Casal Gelidenc - ECPv6.15.18//NONSGML v1.0//EN
CALSCALE:GREGORIAN
METHOD:PUBLISH
X-ORIGINAL-URL:https://ucg.cat
X-WR-CALDESC:Esdeveniments per Unió Casal Gelidenc
REFRESH-INTERVAL;VALUE=DURATION:PT1H
X-Robots-Tag:noindex
X-PUBLISHED-TTL:PT1H
BEGIN:VTIMEZONE
TZID:Europe/Paris
BEGIN:DAYLIGHT
TZOFFSETFROM:+0100
TZOFFSETTO:+0200
TZNAME:CEST
DTSTART:20240331T010000
END:DAYLIGHT
BEGIN:STANDARD
TZOFFSETFROM:+0200
TZOFFSETTO:+0100
TZNAME:CET
DTSTART:20241027T010000
END:STANDARD
BEGIN:DAYLIGHT
TZOFFSETFROM:+0100
TZOFFSETTO:+0200
TZNAME:CEST
DTSTART:20250330T010000
END:DAYLIGHT
BEGIN:STANDARD
TZOFFSETFROM:+0200
TZOFFSETTO:+0100
TZNAME:CET
DTSTART:20251026T010000
END:STANDARD
BEGIN:DAYLIGHT
TZOFFSETFROM:+0100
TZOFFSETTO:+0200
TZNAME:CEST
DTSTART:20260329T010000
END:DAYLIGHT
BEGIN:STANDARD
TZOFFSETFROM:+0200
TZOFFSETTO:+0100
TZNAME:CET
DTSTART:20261025T010000
END:STANDARD
END:VTIMEZONE
BEGIN:VEVENT
DTSTART;TZID=Europe/Paris:20251205T190000
DTEND;TZID=Europe/Paris:20251205T203000
DTSTAMP:20260420T024753
CREATED:20251119T192000Z
LAST-MODIFIED:20251126T134218Z
UID:3170-1764961200-1764966600@ucg.cat
SUMMARY:Acte de commemoració: 75 anys d'Unió del Casal Gelidenc
DESCRIPTION:
URL:https://ucg.cat/esdeveniment/presentacio-del-llibre-darrere-nostre-un-riu-de-flors-trencades-copy/
LOCATION:Saló d’Espectacles UCG\, Carrer Major 10\, Gelida\, 08790\, Spain
CATEGORIES:75 aniversari,Presentació Llibre
ATTACH;FMTTYPE=image/jpeg:https://ucg.cat/wp-content/uploads/2025/11/UCG_Cartell_Acte75-1-1_page-0001.jpg
END:VEVENT
END:VCALENDAR