BEGIN:VCALENDAR
VERSION:2.0
PRODID:-//Unió Casal Gelidenc - ECPv6.15.18//NONSGML v1.0//EN
CALSCALE:GREGORIAN
METHOD:PUBLISH
X-WR-CALNAME:Unió Casal Gelidenc
X-ORIGINAL-URL:https://ucg.cat
X-WR-CALDESC:Esdeveniments per Unió Casal Gelidenc
REFRESH-INTERVAL;VALUE=DURATION:PT1H
X-Robots-Tag:noindex
X-PUBLISHED-TTL:PT1H
BEGIN:VTIMEZONE
TZID:Europe/Paris
BEGIN:DAYLIGHT
TZOFFSETFROM:+0100
TZOFFSETTO:+0200
TZNAME:CEST
DTSTART:20240331T010000
END:DAYLIGHT
BEGIN:STANDARD
TZOFFSETFROM:+0200
TZOFFSETTO:+0100
TZNAME:CET
DTSTART:20241027T010000
END:STANDARD
BEGIN:DAYLIGHT
TZOFFSETFROM:+0100
TZOFFSETTO:+0200
TZNAME:CEST
DTSTART:20250330T010000
END:DAYLIGHT
BEGIN:STANDARD
TZOFFSETFROM:+0200
TZOFFSETTO:+0100
TZNAME:CET
DTSTART:20251026T010000
END:STANDARD
BEGIN:DAYLIGHT
TZOFFSETFROM:+0100
TZOFFSETTO:+0200
TZNAME:CEST
DTSTART:20260329T010000
END:DAYLIGHT
BEGIN:STANDARD
TZOFFSETFROM:+0200
TZOFFSETTO:+0100
TZNAME:CET
DTSTART:20261025T010000
END:STANDARD
BEGIN:DAYLIGHT
TZOFFSETFROM:+0100
TZOFFSETTO:+0200
TZNAME:CEST
DTSTART:20270328T010000
END:DAYLIGHT
BEGIN:STANDARD
TZOFFSETFROM:+0200
TZOFFSETTO:+0100
TZNAME:CET
DTSTART:20271031T010000
END:STANDARD
END:VTIMEZONE
BEGIN:VTIMEZONE
TZID:Europe/Madrid
BEGIN:DAYLIGHT
TZOFFSETFROM:+0100
TZOFFSETTO:+0200
TZNAME:CEST
DTSTART:20240331T010000
END:DAYLIGHT
BEGIN:STANDARD
TZOFFSETFROM:+0200
TZOFFSETTO:+0100
TZNAME:CET
DTSTART:20241027T010000
END:STANDARD
BEGIN:DAYLIGHT
TZOFFSETFROM:+0100
TZOFFSETTO:+0200
TZNAME:CEST
DTSTART:20250330T010000
END:DAYLIGHT
BEGIN:STANDARD
TZOFFSETFROM:+0200
TZOFFSETTO:+0100
TZNAME:CET
DTSTART:20251026T010000
END:STANDARD
BEGIN:DAYLIGHT
TZOFFSETFROM:+0100
TZOFFSETTO:+0200
TZNAME:CEST
DTSTART:20260329T010000
END:DAYLIGHT
BEGIN:STANDARD
TZOFFSETFROM:+0200
TZOFFSETTO:+0100
TZNAME:CET
DTSTART:20261025T010000
END:STANDARD
END:VTIMEZONE
BEGIN:VEVENT
DTSTART;TZID=Europe/Paris:20251231T203000
DTEND;TZID=Europe/Paris:20260305T174909
DTSTAMP:20260421T131917
CREATED:20251231T193000Z
LAST-MODIFIED:20260325T100158Z
UID:3208-1767213000-1772732949@ucg.cat
SUMMARY:SOPAR CAP D'ANY
DESCRIPTION:Socis: 90 € \nNo socis: 100 €
URL:https://ucg.cat/esdeveniment/ball-a-concretar-copy-2-copy-copy-copy-copy-copy-copy/
LOCATION:Saló d’Espectacles UCG\, Carrer Major 10\, Gelida\, 08790\, Spain
ATTACH;FMTTYPE=image/jpeg:https://ucg.cat/wp-content/uploads/2026/03/SOPAR-BALL-CAP-DANY-2025-scaled.jpg
END:VEVENT
BEGIN:VEVENT
DTSTART;TZID=Europe/Paris:20251221T190000
DTEND;TZID=Europe/Paris:20251221T220000
DTSTAMP:20260421T131917
CREATED:20251119T191840Z
LAST-MODIFIED:20251211T200444Z
UID:3167-1766343600-1766354400@ucg.cat
SUMMARY:Ball amb Quim Ritme
DESCRIPTION:Socis: entrada gratuïta. \nNo socis: 7 €
URL:https://ucg.cat/esdeveniment/ball-a-concretar-copy-2-copy-copy-copy-copy/
LOCATION:Saló d’Espectacles UCG\, Carrer Major 10\, Gelida\, 08790\, Spain
CATEGORIES:Ball de tarda
ATTACH;FMTTYPE=image/jpeg:https://ucg.cat/wp-content/uploads/2025/11/2025-12-21-QUIN-RITME.jpg
END:VEVENT
BEGIN:VEVENT
DTSTART;TZID=Europe/Paris:20251214T190000
DTEND;TZID=Europe/Paris:20251214T210000
DTSTAMP:20260421T131917
CREATED:20251120T172715Z
LAST-MODIFIED:20251120T172912Z
UID:3177-1765738800-1765746000@ucg.cat
SUMMARY:Teatre KRAMIG
DESCRIPTION:SINOPSI \nElla és una romàntica de manual\, impuntual sense remei\, i enamorada dels peluixos de \nl’Ikea\, sobretot el Kramig\, l’ós panda. Ell és pràctic i pragmàtic\, hipocondríac i supersticiós empedernit. Són oposats\, però un dia es coneixen i no poden separar-se. I\, \nquan decideixen tenir un fill\, sorgeixen dilemes universals que apareixen quan t’està a punt de canviar la vida. \n  \nUna comèdia romàntica que t’emocionarà. \n  \nEspectacle en català \nComèdia romàntica \nDurada: 1hora 20 min
URL:https://ucg.cat/esdeveniment/teatre-cnl-quina-parentela-copy/
LOCATION:Saló d’Espectacles UCG\, Carrer Major 10\, Gelida\, 08790\, Spain
CATEGORIES:Teatre
ATTACH;FMTTYPE=image/jpeg:https://ucg.cat/wp-content/uploads/2025/11/UCG_Cartell_Kramig_page-0001.jpg
END:VEVENT
BEGIN:VEVENT
DTSTART;TZID=Europe/Paris:20251207T190000
DTEND;TZID=Europe/Paris:20251207T220000
DTSTAMP:20260421T131917
CREATED:20251119T191525Z
LAST-MODIFIED:20251119T193206Z
UID:3163-1765134000-1765144800@ucg.cat
SUMMARY:Ball amb Duo CopaCabana
DESCRIPTION:Socis: entrada gratuïta. \nNo socis: 7 €
URL:https://ucg.cat/esdeveniment/ball-a-concretar-copy-2-copy-copy-copy/
LOCATION:Saló d’Espectacles UCG\, Carrer Major 10\, Gelida\, 08790\, Spain
CATEGORIES:Ball de tarda
ATTACH;FMTTYPE=image/jpeg:https://ucg.cat/wp-content/uploads/2025/11/1.jpg
END:VEVENT
BEGIN:VEVENT
DTSTART;TZID=Europe/Paris:20251205T190000
DTEND;TZID=Europe/Paris:20251205T203000
DTSTAMP:20260421T131917
CREATED:20251119T192000Z
LAST-MODIFIED:20251126T134218Z
UID:3170-1764961200-1764966600@ucg.cat
SUMMARY:Acte de commemoració: 75 anys d'Unió del Casal Gelidenc
DESCRIPTION:
URL:https://ucg.cat/esdeveniment/presentacio-del-llibre-darrere-nostre-un-riu-de-flors-trencades-copy/
LOCATION:Saló d’Espectacles UCG\, Carrer Major 10\, Gelida\, 08790\, Spain
CATEGORIES:75 aniversari,Presentació Llibre
ATTACH;FMTTYPE=image/jpeg:https://ucg.cat/wp-content/uploads/2025/11/UCG_Cartell_Acte75-1-1_page-0001.jpg
END:VEVENT
BEGIN:VEVENT
DTSTART;TZID=Europe/Paris:20251130T190000
DTEND;TZID=Europe/Paris:20251130T220000
DTSTAMP:20260421T131917
CREATED:20251119T185823Z
LAST-MODIFIED:20251119T191825Z
UID:3160-1764529200-1764540000@ucg.cat
SUMMARY:Ball amb París La Nuit
DESCRIPTION:Socis: entrada gratuïta. \nNo socis: 7 €
URL:https://ucg.cat/esdeveniment/ball-a-concretar-copy-2-copy-copy-3/
LOCATION:Saló d’Espectacles UCG\, Carrer Major 10\, Gelida\, 08790\, Spain
CATEGORIES:Ball de tarda
ATTACH;FMTTYPE=image/jpeg:https://ucg.cat/wp-content/uploads/2025/11/WhatsApp-Image-2025-11-19-at-20.01.14.jpeg
END:VEVENT
BEGIN:VEVENT
DTSTART;TZID=Europe/Paris:20251128T220000
DTEND;TZID=Europe/Paris:20251129T010000
DTSTAMP:20260421T131917
CREATED:20251119T183359Z
LAST-MODIFIED:20251119T185724Z
UID:3145-1764367200-1764378000@ucg.cat
SUMMARY:SALSOTECA
DESCRIPTION:Entrada: \nSocis:  7€ \nNo Socis: 10€ \nInclou: \n1 Combinat o 2 Refrescos o 2 Cerveses
URL:https://ucg.cat/esdeveniment/ball-a-concretar-copy-2-copy-copy-2/
LOCATION:Saló d’Espectacles UCG\, Carrer Major 10\, Gelida\, 08790\, Spain
CATEGORIES:Salsoteca
ATTACH;FMTTYPE=image/jpeg:https://ucg.cat/wp-content/uploads/2025/11/WhatsApp-Image-2025-11-19-at-19.52.42.jpeg
END:VEVENT
BEGIN:VEVENT
DTSTART;TZID=Europe/Paris:20251122T123000
DTEND;TZID=Europe/Paris:20251122T133000
DTSTAMP:20260421T131917
CREATED:20251119T183534Z
LAST-MODIFIED:20251119T184825Z
UID:3147-1763814600-1763818200@ucg.cat
SUMMARY:Presentació del llibre "DARRERE NOSTRE UN RIU DE FLORS TRENCADES..." Enric Larreula
DESCRIPTION:Entrada Gratuïta \nSALA DE SOCIS UCG – 1r. Pis
URL:https://ucg.cat/esdeveniment/presentacio-del-llibre-darrere-nostre-un-riu-de-flors-trencades/
LOCATION:Sala de Socis UCG\, C/Major\, 12 - 1r. Pis\, Gelida\, Barcelona\, 08790\, Spain
CATEGORIES:Presentació Llibre
ATTACH;FMTTYPE=image/jpeg:https://ucg.cat/wp-content/uploads/2025/11/WhatsApp-Image-2025-11-19-at-19.38.25.jpeg
END:VEVENT
BEGIN:VEVENT
DTSTART;TZID=Europe/Paris:20251115T120000
DTEND;TZID=Europe/Paris:20251115T133000
DTSTAMP:20260421T131917
CREATED:20251119T183003Z
LAST-MODIFIED:20251119T184950Z
UID:3142-1763208000-1763213400@ucg.cat
SUMMARY:Espectacle Infantil TOMA PA'TI "Sòmines de l'Àrtic"
DESCRIPTION:Socis: entrada gratuïta. \nNo socis: 5 €
URL:https://ucg.cat/esdeveniment/ball-a-concretar-copy-2-copy-copy/
LOCATION:Saló d’Espectacles UCG\, Carrer Major 10\, Gelida\, 08790\, Spain
CATEGORIES:Espectacle Infantil
ATTACH;FMTTYPE=image/jpeg:https://ucg.cat/wp-content/uploads/2025/11/2025-11-15-TEATRE-INFANTIL-SOMINES-DE-LARTIC-scaled.jpg
END:VEVENT
BEGIN:VEVENT
DTSTART;TZID=Europe/Paris:20251102T190000
DTEND;TZID=Europe/Paris:20251102T220000
DTSTAMP:20260421T131917
CREATED:20251119T181252Z
LAST-MODIFIED:20251119T182658Z
UID:3136-1762110000-1762120800@ucg.cat
SUMMARY:Ball amb Duo Mediterraneo
DESCRIPTION:Socis: entrada gratuïta. \nNo socis: 7 €
URL:https://ucg.cat/esdeveniment/ball-a-concretar-copy-2-copy/
LOCATION:Saló d’Espectacles UCG\, Carrer Major 10\, Gelida\, 08790\, Spain
CATEGORIES:Ball de tarda
ATTACH;FMTTYPE=image/jpeg:https://ucg.cat/wp-content/uploads/2025/11/2025-11-02-DUO-MEDITERRANEO-scaled.jpg
END:VEVENT
BEGIN:VEVENT
DTSTART;TZID=Europe/Paris:20251026T190000
DTEND;TZID=Europe/Paris:20251026T220000
DTSTAMP:20260421T131917
CREATED:20251002T192101Z
LAST-MODIFIED:20251002T192209Z
UID:3126-1761505200-1761516000@ucg.cat
SUMMARY:Ball amb Duo Cabana
DESCRIPTION:Socis: entrada gratuïta. \nNo socis: 7 €
URL:https://ucg.cat/esdeveniment/ball-a-concretar-copy-2/
LOCATION:Saló d’Espectacles UCG\, Carrer Major 10\, Gelida\, 08790\, Spain
CATEGORIES:Ball de tarda
ATTACH;FMTTYPE=image/jpeg:https://ucg.cat/wp-content/uploads/2025/10/2025-10-12-DUO-CABANA.jpg
END:VEVENT
BEGIN:VEVENT
DTSTART;TZID=Europe/Paris:20251025T143000
DTEND;TZID=Europe/Paris:20251025T203000
DTSTAMP:20260421T131917
CREATED:20251002T192305Z
LAST-MODIFIED:20251002T193439Z
UID:3128-1761402600-1761424200@ucg.cat
SUMMARY:Dinar - Ball de tardor amb This is Massa
DESCRIPTION:Venda de tiquets: de dilluns a dijous\, de 18’00 a 20’00 hores\, a l’oficina de l’entitat i en les activitats programades
URL:https://ucg.cat/esdeveniment/dinar-ball-de-tardor/
LOCATION:Saló d’Espectacles UCG\, Carrer Major 10\, Gelida\, 08790\, Spain
CATEGORIES:Dinar - Ball
ATTACH;FMTTYPE=image/jpeg:https://ucg.cat/wp-content/uploads/2025/10/Dinar-de-Tardor-25-10-2025.jpg
END:VEVENT
BEGIN:VEVENT
DTSTART;TZID=Europe/Paris:20251019T190000
DTEND;TZID=Europe/Paris:20251019T220000
DTSTAMP:20260421T131917
CREATED:20251002T191643Z
LAST-MODIFIED:20251002T192009Z
UID:3124-1760900400-1760911200@ucg.cat
SUMMARY:Ball amb Quin Ritme
DESCRIPTION:Socis: entrada gratuïta. \nNo socis: 7 €
URL:https://ucg.cat/esdeveniment/ball-amb-quin-ritme/
LOCATION:Saló d’Espectacles UCG\, Carrer Major 10\, Gelida\, 08790\, Spain
CATEGORIES:Ball de tarda
ATTACH;FMTTYPE=image/jpeg:https://ucg.cat/wp-content/uploads/2025/10/2025-10-19-QUIN-RITME.jpg
END:VEVENT
BEGIN:VEVENT
DTSTART;TZID=Europe/Paris:20251012T190000
DTEND;TZID=Europe/Paris:20251012T220000
DTSTAMP:20260421T131917
CREATED:20250918T155434Z
LAST-MODIFIED:20251002T190819Z
UID:3083-1760295600-1760306400@ucg.cat
SUMMARY:Ball amb Joan Ramón
DESCRIPTION:Socis: entrada gratuïta. \nNo socis: 7 €
URL:https://ucg.cat/esdeveniment/ball-a-concretar/
LOCATION:Saló d’Espectacles UCG\, Carrer Major 10\, Gelida\, 08790\, Spain
CATEGORIES:Ball de tarda
ATTACH;FMTTYPE=image/jpeg:https://ucg.cat/wp-content/uploads/2025/10/2025-10-12-JOAN-RAMON.jpg
END:VEVENT
BEGIN:VEVENT
DTSTART;TZID=Europe/Paris:20251011T190000
DTEND;TZID=Europe/Paris:20251011T210000
DTSTAMP:20260421T131917
CREATED:20251002T190308Z
LAST-MODIFIED:20251002T193230Z
UID:3115-1760209200-1760216400@ucg.cat
SUMMARY:Teatre CNL  Quina Parentela!
DESCRIPTION:Quina parentela! és l’obra de teatre que el Grup CNL\, la companyia del Consorci per a la Normalització Lingüística del Penedès\, i de les anomenades parelles lingüístiques\, presentarà al Saló d’Espectacles del Casal de Gelida\, el dissabte 11 d’octubre a les 19.00 hores.
URL:https://ucg.cat/esdeveniment/teatre-cnl-quina-parentela/
LOCATION:Saló d’Espectacles UCG\, Carrer Major 10\, Gelida\, 08790\, Spain
CATEGORIES:Teatre
ATTACH;FMTTYPE=image/jpeg:https://ucg.cat/wp-content/uploads/2025/10/20258-10-11-CNL-TEATRE.jpg
END:VEVENT
BEGIN:VEVENT
DTSTART;TZID=Europe/Paris:20250928T193000
DTEND;TZID=Europe/Paris:20250928T210000
DTSTAMP:20260421T131917
CREATED:20250822T080431Z
LAST-MODIFIED:20250822T080600Z
UID:3038-1759087800-1759093200@ucg.cat
SUMMARY:Bora Bora
DESCRIPTION:Socis: entrada gratuïta. \nNo socis: 7 €
URL:https://ucg.cat/esdeveniment/bora-bora/
LOCATION:Pista Jardí UCG\, Onze de Setembre\, 10\, Gelida\, Barcelona\, 08790\, Spain
CATEGORIES:Ball de tarda
ATTACH;FMTTYPE=image/jpeg:https://ucg.cat/wp-content/uploads/2025/08/2025-09-28.jpg
END:VEVENT
BEGIN:VEVENT
DTSTART;TZID=Europe/Paris:20250921T193000
DTEND;TZID=Europe/Paris:20250921T210000
DTSTAMP:20260421T131917
CREATED:20250822T080238Z
LAST-MODIFIED:20250822T080357Z
UID:3036-1758483000-1758488400@ucg.cat
SUMMARY:Quin Ritme - Analía & Carlos
DESCRIPTION:Socis: entrada gratuïta. \nNo socis: 7 €
URL:https://ucg.cat/esdeveniment/quin-ritme-analia-carlos/
LOCATION:Pista Jardí UCG\, Onze de Setembre\, 10\, Gelida\, Barcelona\, 08790\, Spain
CATEGORIES:Ball de tarda
ATTACH;FMTTYPE=image/jpeg:https://ucg.cat/wp-content/uploads/2025/08/2025-09-21.jpg
END:VEVENT
BEGIN:VEVENT
DTSTART;TZID=Europe/Paris:20250914T193000
DTEND;TZID=Europe/Paris:20250914T210000
DTSTAMP:20260421T131917
CREATED:20250822T075946Z
LAST-MODIFIED:20250822T080139Z
UID:3034-1757878200-1757883600@ucg.cat
SUMMARY:Mar i Cel
DESCRIPTION:Socis: entrada gratuïta. \nNo socis: 7 €
URL:https://ucg.cat/esdeveniment/mar-i-cel/
LOCATION:Pista Jardí UCG\, Onze de Setembre\, 10\, Gelida\, Barcelona\, 08790\, Spain
CATEGORIES:Ball de tarda
ATTACH;FMTTYPE=image/jpeg:https://ucg.cat/wp-content/uploads/2025/08/2025-09-14.jpg
END:VEVENT
BEGIN:VEVENT
DTSTART;TZID=Europe/Paris:20250913T193000
DTEND;TZID=Europe/Paris:20250913T210000
DTSTAMP:20260421T131917
CREATED:20250902T064729Z
LAST-MODIFIED:20250918T160332Z
UID:3045-1757791800-1757797200@ucg.cat
SUMMARY:Festa de la Diada
DESCRIPTION:Socis: entrada gratuïta. \nNo socis: 5 €
URL:https://ucg.cat/esdeveniment/festa-de-la-diada/
LOCATION:Saló d’Espectacles UCG\, Carrer Major 10\, Gelida\, 08790\, Spain
CATEGORIES:Concert
ATTACH;FMTTYPE=image/jpeg:https://ucg.cat/wp-content/uploads/2025/09/13-FESTA-CATALANA.jpeg
END:VEVENT
BEGIN:VEVENT
DTSTART;TZID=Europe/Paris:20250907T193000
DTEND;TZID=Europe/Paris:20250907T210000
DTSTAMP:20260421T131917
CREATED:20250822T075604Z
LAST-MODIFIED:20250822T075839Z
UID:3032-1757273400-1757278800@ucg.cat
SUMMARY:Fusión Duet
DESCRIPTION:Socis: entrada gratuïta. \nNo socis: 7 €
URL:https://ucg.cat/esdeveniment/fusion-duet/
LOCATION:Pista Jardí UCG\, Onze de Setembre\, 10\, Gelida\, Barcelona\, 08790\, Spain
CATEGORIES:Ball de tarda
ATTACH;FMTTYPE=image/jpeg:https://ucg.cat/wp-content/uploads/2025/08/2025-09-07.jpg
END:VEVENT
BEGIN:VEVENT
DTSTART;TZID=Europe/Paris:20250831T193000
DTEND;TZID=Europe/Paris:20250831T220000
DTSTAMP:20260421T131917
CREATED:20250717T052613Z
LAST-MODIFIED:20250718T070807Z
UID:2805-1756668600-1756677600@ucg.cat
SUMMARY:Duo Mediterraneo
DESCRIPTION:Socis: entrada gratuïta. \nNo socis: 7 €
URL:https://ucg.cat/esdeveniment/duo-mediterraneo/
LOCATION:Pista Jardí UCG\, Onze de Setembre\, 10\, Gelida\, Barcelona\, 08790\, Spain
CATEGORIES:Ball de tarda
ATTACH;FMTTYPE=image/jpeg:https://ucg.cat/wp-content/uploads/2025/07/2025-08-31-DUO-MEDITERRANEO-1.jpg
END:VEVENT
BEGIN:VEVENT
DTSTART;TZID=Europe/Madrid:20250824T193000
DTEND;TZID=Europe/Madrid:20250824T220000
DTSTAMP:20260421T131917
CREATED:20250717T052719Z
LAST-MODIFIED:20250718T094108Z
UID:2807-1756063800-1756072800@ucg.cat
SUMMARY:Ely
DESCRIPTION:Socis: entrada gratuïta. \nNo socis: 7 €
URL:https://ucg.cat/esdeveniment/ely/
LOCATION:Pista Jardí UCG\, Onze de Setembre\, 10\, Gelida\, Barcelona\, 08790\, Spain
CATEGORIES:Ball de tarda
ATTACH;FMTTYPE=image/jpeg:https://ucg.cat/wp-content/uploads/2025/07/2025-8-24-ELY-1.jpg
END:VEVENT
BEGIN:VEVENT
DTSTART;TZID=Europe/Paris:20250818T000000
DTEND;TZID=Europe/Paris:20250818T020000
DTSTAMP:20260421T131917
CREATED:20250717T052410Z
LAST-MODIFIED:20250723T202813Z
UID:2803-1755475200-1755482400@ucg.cat
SUMMARY:Orquesta Rosaleda - 80 Aniversari
DESCRIPTION:Socis: entrada gratuïta. \nNo socis: 12 €
URL:https://ucg.cat/esdeveniment/orquesta-rosaleda-80-aniversari/
LOCATION:Pista Jardí UCG\, Onze de Setembre\, 10\, Gelida\, Barcelona\, 08790\, Spain
CATEGORIES:Ball de nit
ATTACH;FMTTYPE=image/jpeg:https://ucg.cat/wp-content/uploads/2025/07/Balls-de-tarda-Agost.jpg
END:VEVENT
BEGIN:VEVENT
DTSTART;TZID=Europe/Paris:20250817T193000
DTEND;TZID=Europe/Paris:20250817T220000
DTSTAMP:20260421T131917
CREATED:20250717T052216Z
LAST-MODIFIED:20250718T070838Z
UID:2801-1755459000-1755468000@ucg.cat
SUMMARY:Paris la nuit - Ball de Tarda
DESCRIPTION:Socis: entrada gratuïta. \nNo socis: 7 €
URL:https://ucg.cat/esdeveniment/paris-la-nuit-ball-de-tarda/
LOCATION:Pista Jardí UCG\, Onze de Setembre\, 10\, Gelida\, Barcelona\, 08790\, Spain
CATEGORIES:Ball de tarda
ATTACH;FMTTYPE=image/png:https://ucg.cat/wp-content/uploads/2025/07/2025-08-17-PARIS-LA-NUIT.png
END:VEVENT
BEGIN:VEVENT
DTSTART;TZID=Europe/Paris:20250817T123000
DTEND;TZID=Europe/Paris:20250817T140000
DTSTAMP:20260421T131917
CREATED:20250717T052105Z
LAST-MODIFIED:20250718T072757Z
UID:2799-1755433800-1755439200@ucg.cat
SUMMARY:Paris la nuit - Ball Vermut
DESCRIPTION:Socis: entrada gratuïta. \nNo socis: 7 €
URL:https://ucg.cat/esdeveniment/paris-la-nuit-ball-vermut/
LOCATION:Pista Jardí UCG\, Onze de Setembre\, 10\, Gelida\, Barcelona\, 08790\, Spain
CATEGORIES:Ball vermut
ATTACH;FMTTYPE=image/png:https://ucg.cat/wp-content/uploads/2025/07/2025-08-17-PARIS-LA-NUIT.png
END:VEVENT
BEGIN:VEVENT
DTSTART;TZID=Europe/Paris:20250817T090000
DTEND;TZID=Europe/Paris:20250817T130000
DTSTAMP:20260421T131917
CREATED:20250723T070201Z
LAST-MODIFIED:20250723T072544Z
UID:2986-1755421200-1755435600@ucg.cat
SUMMARY:Concurs de pintors amateur
DESCRIPTION:BASES: \n\nEl concurs tindrà lloc el diumenge 17 d’agost de 2025 a la Pista Jardí de la Unió del Casal Gelidenc de 9h i les 13h.\nPodran participar-hi amb un màxim d’una obra\, tots els artistes amateur majors de 16 anys residents a Gelida.\nPREMIS:\n\n1r premi: 250€\n2n premi: 150€\n3r premi: 100€\n\n\nEl tema serà GELIDA\, qualsevol tema que representi Gelida. Els artistes amateur podran pintar en base a una fotografía de Gelida que portaran en papel o telèfon mòbil.\nLa mida de l’obra serà de 32cm x 24cm i de tècnica lliure\nEl segellat del suport es farà a la Pista Jardí a les 9:00h. El lliurament de l’obra serà al mateix lloc al finalitzar el concurs de pintors amateur\, a les 13h.\nEl jurat estarà format per persones qualificades i la seva decisió serà inapel.lable\, amb plenes facultats per declarar el premi desert si les obres presentades no reuneixen les condicions de qualitat que consideren oportunes.\nEl veredicte es farà públic al finalitzar el concurs el 17 d’agost de 2025 a la Pista Jardí.\nTotes les obres guanyadores d’un premi es quedaran en propietat de Unió Casal Gelidenc.\nTotes les obres s’exposaran al públic en un lloc i data a determinar.\nEls organitzadors es reserven el dret de resoldre qualsevol circumstància no prevista a les bases.\nEl fet de participar en aquest concurs suposa la plena acceptació d’aquestes bases.\nL’organització es compromet a tractor les obres amb la màxima cura però no es fa responsable de qualsevol deteriorament que es pogués produir.
URL:https://ucg.cat/esdeveniment/concurs-de-pintors-amateur/
LOCATION:Pista Jardí UCG\, Onze de Setembre\, 10\, Gelida\, Barcelona\, 08790\, Spain
CATEGORIES:Concurs
ATTACH;FMTTYPE=image/jpeg:https://ucg.cat/wp-content/uploads/2025/07/1r.-Concurs-de-pintors-Amateur.jpg
END:VEVENT
BEGIN:VEVENT
DTSTART;TZID=Europe/Paris:20250810T193000
DTEND;TZID=Europe/Paris:20250810T220000
DTSTAMP:20260421T131917
CREATED:20250717T051948Z
LAST-MODIFIED:20250718T070851Z
UID:2797-1754854200-1754863200@ucg.cat
SUMMARY:Joan Siqués
DESCRIPTION:Socis: entrada gratuïta. \nNo socis: 7 €
URL:https://ucg.cat/esdeveniment/joan-siques/
LOCATION:Pista Jardí UCG\, Onze de Setembre\, 10\, Gelida\, Barcelona\, 08790\, Spain
CATEGORIES:Ball de tarda
ATTACH;FMTTYPE=image/jpeg:https://ucg.cat/wp-content/uploads/2025/07/2025-08-10-JOAN-SIQUES-1.jpg
END:VEVENT
BEGIN:VEVENT
DTSTART;TZID=Europe/Paris:20250803T193000
DTEND;TZID=Europe/Paris:20250803T220000
DTSTAMP:20260421T131917
CREATED:20250717T051714Z
LAST-MODIFIED:20250822T080550Z
UID:2795-1754249400-1754258400@ucg.cat
SUMMARY:Bora Bora
DESCRIPTION:Socis: entrada gratuïta. \nNo socis: 7 €
URL:https://ucg.cat/esdeveniment/bora-bora-juliol/
LOCATION:Pista Jardí UCG\, Onze de Setembre\, 10\, Gelida\, Barcelona\, 08790\, Spain
CATEGORIES:Ball de tarda
ATTACH;FMTTYPE=image/jpeg:https://ucg.cat/wp-content/uploads/2025/07/1.jpg
END:VEVENT
BEGIN:VEVENT
DTSTART;TZID=Europe/Paris:20250727T193000
DTEND;TZID=Europe/Paris:20250727T220000
DTSTAMP:20260421T131917
CREATED:20250717T051052Z
LAST-MODIFIED:20250718T070919Z
UID:2790-1753644600-1753653600@ucg.cat
SUMMARY:La Clave del Son
DESCRIPTION:Socis entrada gratuïta. \nNo socis: 7 €
URL:https://ucg.cat/esdeveniment/la-clave-del-son/
LOCATION:Pista Jardí UCG\, Onze de Setembre\, 10\, Gelida\, Barcelona\, 08790\, Spain
CATEGORIES:Ball de tarda
ATTACH;FMTTYPE=image/jpeg:https://ucg.cat/wp-content/uploads/2025/07/2025-07-27-1-CLAVE-DEL-SON-2.jpg
END:VEVENT
BEGIN:VEVENT
DTSTART;TZID=Europe/Paris:20250720T193000
DTEND;TZID=Europe/Paris:20250720T220000
DTSTAMP:20260421T131917
CREATED:20250717T050731Z
LAST-MODIFIED:20250718T070928Z
UID:2775-1753039800-1753048800@ucg.cat
SUMMARY:Maryan Duet
DESCRIPTION:Socis entrada gratuïta. \nNo socis: 7 €
URL:https://ucg.cat/esdeveniment/maryan-duet/
LOCATION:Pista Jardí UCG\, Onze de Setembre\, 10\, Gelida\, Barcelona\, 08790\, Spain
CATEGORIES:Ball de tarda
ATTACH;FMTTYPE=image/jpeg:https://ucg.cat/wp-content/uploads/2025/07/2025-07-20-MARYAN-DUET-2.jpg
END:VEVENT
END:VCALENDAR